BEGIN:VCALENDAR
VERSION:2.0
PRODID:-//Future Farmers Network - ECPv6.15.20//NONSGML v1.0//EN
CALSCALE:GREGORIAN
METHOD:PUBLISH
X-WR-CALNAME:Future Farmers Network
X-ORIGINAL-URL:https://futurefarmers.com.au
X-WR-CALDESC:Events for Future Farmers Network
REFRESH-INTERVAL;VALUE=DURATION:PT1H
X-Robots-Tag:noindex
X-PUBLISHED-TTL:PT1H
BEGIN:VTIMEZONE
TZID:Australia/Melbourne
BEGIN:STANDARD
TZOFFSETFROM:+1100
TZOFFSETTO:+1000
TZNAME:AEST
DTSTART:20190406T160000
END:STANDARD
BEGIN:DAYLIGHT
TZOFFSETFROM:+1000
TZOFFSETTO:+1100
TZNAME:AEDT
DTSTART:20191005T160000
END:DAYLIGHT
BEGIN:STANDARD
TZOFFSETFROM:+1100
TZOFFSETTO:+1000
TZNAME:AEST
DTSTART:20200404T160000
END:STANDARD
BEGIN:DAYLIGHT
TZOFFSETFROM:+1000
TZOFFSETTO:+1100
TZNAME:AEDT
DTSTART:20201003T160000
END:DAYLIGHT
BEGIN:STANDARD
TZOFFSETFROM:+1100
TZOFFSETTO:+1000
TZNAME:AEST
DTSTART:20210403T160000
END:STANDARD
BEGIN:DAYLIGHT
TZOFFSETFROM:+1000
TZOFFSETTO:+1100
TZNAME:AEDT
DTSTART:20211002T160000
END:DAYLIGHT
BEGIN:STANDARD
TZOFFSETFROM:+1100
TZOFFSETTO:+1000
TZNAME:AEST
DTSTART:20220402T160000
END:STANDARD
BEGIN:DAYLIGHT
TZOFFSETFROM:+1000
TZOFFSETTO:+1100
TZNAME:AEDT
DTSTART:20221001T160000
END:DAYLIGHT
END:VTIMEZONE
BEGIN:VTIMEZONE
TZID:Australia/Brisbane
BEGIN:STANDARD
TZOFFSETFROM:+1000
TZOFFSETTO:+1000
TZNAME:AEST
DTSTART:20200101T000000
END:STANDARD
END:VTIMEZONE
BEGIN:VTIMEZONE
TZID:UTC
BEGIN:STANDARD
TZOFFSETFROM:+0000
TZOFFSETTO:+0000
TZNAME:UTC
DTSTART:20190101T000000
END:STANDARD
END:VTIMEZONE
BEGIN:VTIMEZONE
TZID:Australia/Sydney
BEGIN:STANDARD
TZOFFSETFROM:+1100
TZOFFSETTO:+1000
TZNAME:AEST
DTSTART:20190406T160000
END:STANDARD
BEGIN:DAYLIGHT
TZOFFSETFROM:+1000
TZOFFSETTO:+1100
TZNAME:AEDT
DTSTART:20191005T160000
END:DAYLIGHT
BEGIN:STANDARD
TZOFFSETFROM:+1100
TZOFFSETTO:+1000
TZNAME:AEST
DTSTART:20200404T160000
END:STANDARD
BEGIN:DAYLIGHT
TZOFFSETFROM:+1000
TZOFFSETTO:+1100
TZNAME:AEDT
DTSTART:20201003T160000
END:DAYLIGHT
BEGIN:STANDARD
TZOFFSETFROM:+1100
TZOFFSETTO:+1000
TZNAME:AEST
DTSTART:20210403T160000
END:STANDARD
BEGIN:DAYLIGHT
TZOFFSETFROM:+1000
TZOFFSETTO:+1100
TZNAME:AEDT
DTSTART:20211002T160000
END:DAYLIGHT
END:VTIMEZONE
BEGIN:VEVENT
DTSTART;VALUE=DATE:20210502
DTEND;VALUE=DATE:20210509
DTSTAMP:20260422T024945
CREATED:20210207T022439Z
LAST-MODIFIED:20210207T022439Z
UID:10000027-1619913600-1620518399@futurefarmers.com.au
SUMMARY:Beef 2021
DESCRIPTION:Beef Australia’s rich history dates back to Australia’s bicentennial celebrations in 1988. Originally planned as a ‘one off’ event\, its success was such that the inaugural event was held again in 1991. It has since been held every three years and has grown to become the cattle industry’s national exhibition\, attracting over 100\,000 people from across Australia and around the world. \nOur vision: To be a world class organisation that promotes and advances a sustainable beef industry  \nBeef Australia 2021 will be a celebration of all facets of the industry and has a focus on facilitating new trade and export opportunities\, exposing the local supply chain to international industry leaders. \nThis unique event is so many things to different people – we are staying agile with our planning to ensure the producers\, scientists\, chefs\, students\, exhibitors\, business people and families can all enjoy Beef Australia 2021. 
URL:https://futurefarmers.com.au/event/beef-2021/
END:VEVENT
BEGIN:VEVENT
DTSTART;TZID=Australia/Melbourne:20210422T140000
DTEND;TZID=Australia/Melbourne:20210422T190000
DTSTAMP:20260422T024945
CREATED:20210327T211417Z
LAST-MODIFIED:20210327T211417Z
UID:10000028-1619100000-1619118000@futurefarmers.com.au
SUMMARY:POSTPONED: Start-Up Stories On-Farm with Jack Laurie
DESCRIPTION:POSTPONED \nBased on his family’s fifth-generation Angus stud\, Knowla Livestock\, near Moppy NSW\, at just 22 years of age Jack Laurie is a trailblazer in the somewhat traditional landscape of beef cattle breeding\, and his story holds valuable lessons for others seeking to enrich their knowledge about agribusiness. \nMr Laurie’s story\, and the challenges and opportunities he encountered when getting Breeder Genetics off the ground\, will be highlighted at the upcoming “Start-Up Stories” event held at Knowla Livestock DATE TBC \nStart-Up Stories offers face-to-face educational and networking opportunities for young farmers eager to learn from other agribusiness innovators\, and is supported by the NSW DPI’s Young Farmer Business Program. \nFacilitated by the Future Farmer Network\, the ticketed event will feature an in-depth presentation by Jack Laurie\, Q&A session\, farm tour and networking drinks. \nThis will be a Covid-19 safe event. \nCHECK BACK FOR TICKETS SOON
URL:https://futurefarmers.com.au/event/start-up-stories-on-farm-with-jack-laurie/
CATEGORIES:Industry Event
ATTACH;FMTTYPE=image/jpeg:https://futurefarmers.com.au/wp-content/uploads/2021/03/Jack-Laurie.jpg
ORGANIZER;CN="Future Farmers Network":MAILTO:executiveofficer@futurefarmers.com.au
END:VEVENT
BEGIN:VEVENT
DTSTART;VALUE=DATE:20210401
DTEND;VALUE=DATE:20210413
DTSTAMP:20260422T024945
CREATED:20200320T052605Z
LAST-MODIFIED:20200320T052605Z
UID:10000011-1617235200-1618271999@futurefarmers.com.au
SUMMARY:Sydney Royal Easter Show
DESCRIPTION:First held in 1823\, the Sydney Royal Easter Show is Australia’s largest annual ticketed event\, attracting over 828\,000 attendees on average. The Show is a celebration of Australian culture\, from our rural traditions to our modern day lifestyles\, providing unique experiences for everyone. Revenue generated by it allows the RAS to invest in agricultural programs\, competitions\, education\, youth and rural NSW.
URL:https://futurefarmers.com.au/event/sydney-royal-easter-show/
LOCATION:Sydney Showground\, 1 Showground Rd\, Sydney Olympic Park\, NSW\, 2127\, Australia
CATEGORIES:Show
END:VEVENT
BEGIN:VEVENT
DTSTART;VALUE=DATE:20210310
DTEND;VALUE=DATE:20210313
DTSTAMP:20260422T024945
CREATED:20210207T022020Z
LAST-MODIFIED:20210207T022020Z
UID:10000026-1615334400-1615593599@futurefarmers.com.au
SUMMARY:National Landcare Conference
DESCRIPTION:The 2020 National Landcare Conference will be held at the International Convention Centre\, Darling Harbour in Sydney from March 10-12 2021 (postponed due to COVID-19).
URL:https://futurefarmers.com.au/event/national-landcare-conference/
LOCATION:International Convention Centre\, Sydney
END:VEVENT
BEGIN:VEVENT
DTSTART;TZID=Australia/Brisbane:20210222T120000
DTEND;TZID=Australia/Brisbane:20210222T140000
DTSTAMP:20260422T024945
CREATED:20210207T021236Z
LAST-MODIFIED:20210207T021236Z
UID:10000025-1613995200-1614002400@futurefarmers.com.au
SUMMARY:Technology in Agribusiness\, the key to a thriving future?
DESCRIPTION:The French-Australian Chamber of Commerce & Industry Queensland Chapter is pleased to invite you to the first event of its New Tech Series\, dedicated to Technology in Agriculture (or AgTech) on Monday 22 February. \nWhile the pandemic has accelerated to rate of automation and ushered more robots into factories\, warehouses and back offices\, is the next generation of intelligent machines the key to a sustainable farming future? \nCome and join our panelists to discuss how the uptake of AI & ML\, robotics and IoT technology in the Agricultural sector is accelerating the transformation of the traditional model and opening (up) new market and export opportunities. \nModerated by Jean-Francois Tixeront\, CEO at Hoplon Cyber Security and leader of our New Tech subcommittee\, our panel will include:\n– Cyril Delorme\, National Project Manager at COREMATIC\,\n– Braden Hellmuth\, Head of Engineering – Automation and Technology at Greensill Farming Group\, and\n– Bruce McConnel\, General Manager at TSBE Food Leaders Australia. \nThe event\, scheduled between 12pm and 2pm (AEST)\, will include a light buffet lunch kindly catered by our host and Corporate member McCullough Robertson. The event will also be available in streaming.
URL:https://futurefarmers.com.au/event/technology-in-agribusiness-the-key-to-a-thriving-future/
LOCATION:McCullough Robertson\, Level 11\, 66 Eagle Street\, Brisbane\, QLD\, 4000\, Australia
CATEGORIES:Conference,Industry Event
END:VEVENT
BEGIN:VEVENT
DTSTART;TZID=UTC:20201211T120000
DTEND;TZID=UTC:20201211T130000
DTSTAMP:20260422T024945
CREATED:20201203T231253Z
LAST-MODIFIED:20201203T231253Z
UID:10000022-1607688000-1607691600@futurefarmers.com.au
SUMMARY:AgriWebb Succession Planning Free Webinar
DESCRIPTION:Succession planning is something that all family farms need to consider at some stage\, yet many delay the conversation as long as possible due to the associated discomfort and unease. \nWhat have you done so far to get your family business prepared for the future? There’s no better time to start the conversation than now. As we head into the Christmas period\, things on the farm start to slow down and you’re spending more quality time with the family \nWe invite you to join us for our upcoming webinar featuring Carlyn Sherriff\, Senior Agribusiness Consultant/People Management and Succession Team Leader at Pinion Advisory. \n\n\n\n\n\nWhat We’re Covering:\n\n\n\n\n\nIntroduction to the succession framework\nLearn about best practice in management succession\nThe key to independently funded retirement\nHear from a producer on their experience taking over the family farm\n… and more!\n\n\n\n\n\n\nIt’s free to register\, so reserve your spot today HERE
URL:https://futurefarmers.com.au/event/agriwebb-succession-planning-free-webinar/
END:VEVENT
BEGIN:VEVENT
DTSTART;TZID=Australia/Sydney:20201112T180000
DTEND;TZID=Australia/Sydney:20201112T190000
DTSTAMP:20260422T024945
CREATED:20201028T031230Z
LAST-MODIFIED:20201028T031230Z
UID:10000021-1605204000-1605207600@futurefarmers.com.au
SUMMARY:FFN 2020 AGM
DESCRIPTION:NOTICE OF 2020 ANNUAL GENERAL MEETING \nThe AGM will commence at 6pm on Thursday\, 12th November 2020 via Zoom. \nRegister for the event here: https://zoom.us/meeting/register/tJwlf-utrDguGdB4zDJDf1ME_Vy0ChxGFBb- \nFFN is calling for Director Nominations for a two-year term of appointment. As per the FFN Constitution\, a maximum of 11 Directors is permissible and there are five (5) positions vacated and to be filled at the 2020 AGM. Candidates are assessed for endorsement by the Board and voted in by FFN Members. \nPlease click here to view candidates and vote (Members Only) \nThe items of business for the 2020 AGM shall be: \n\nWelcome\nRegistration of attendees and apologies\nAdoption of Minutes of 2019 Annual General Meeting (CLICK HERE TO VIEW)\nReceival and consideration of the Directors Report and Financials for the year ended 30 June 2020\nAnnouncement of Directors\nGeneral Business\n\nPlease direct all enquiries regarding the AGM to Executive Officer Jamie-Lee Oldfield at jamielee.oldfield@futurefarmers.com.au
URL:https://futurefarmers.com.au/event/ffn-2020-agm/
CATEGORIES:Industry Event
ATTACH;FMTTYPE=image/jpeg:https://futurefarmers.com.au/wp-content/uploads/2020/10/FFN_LOGO_HORIZONTAL_RGB_MED-1-e1638249424686.jpg
ORGANIZER;CN="Future Farmers Network":MAILTO:executiveofficer@futurefarmers.com.au
END:VEVENT
BEGIN:VEVENT
DTSTART;TZID=Australia/Melbourne:20201028T180000
DTEND;TZID=Australia/Melbourne:20201028T183000
DTSTAMP:20260422T024945
CREATED:20201026T051228Z
LAST-MODIFIED:20201026T051228Z
UID:10000020-1603908000-1603909800@futurefarmers.com.au
SUMMARY:Start-Up Stories with JAD Ag
DESCRIPTION:Have we got a treat for you !\n\n\nJustin & Amy Dickins of JAD Agriculture went from buying their own property to breaking a national record for a pen of PTIC heifers of any breed\, selling a pen of eight for $5800\, in just four years!\n\n\n\nThey will be our Start-Up Stories Online guest speakers\, in conversation with FFN Director and \nHumans of Agriculture guru Oli Le Lievre.\n\n\n\n\nRegister now for this not to be missed event – http://bit.ly/StartupStoriesOctober28
URL:https://futurefarmers.com.au/event/start-up-stories-with-jad-ag/
CATEGORIES:Industry Event
ATTACH;FMTTYPE=image/jpeg:https://futurefarmers.com.au/wp-content/uploads/2020/10/121780157_1202056030181763_814449158468024655_o.jpg
ORGANIZER;CN="Future Farmers Network":MAILTO:executiveofficer@futurefarmers.com.au
END:VEVENT
BEGIN:VEVENT
DTSTART;TZID=Australia/Melbourne:20201006T183000
DTEND;TZID=Australia/Melbourne:20201006T193000
DTSTAMP:20260422T024945
CREATED:20200929T032545Z
LAST-MODIFIED:20200929T032545Z
UID:10000019-1602009000-1602012600@futurefarmers.com.au
SUMMARY:Tim Eyes & Hannah Greenshields | Startup Stories Online | October 2020
DESCRIPTION:Tim & Hannah are young farmers in the Yarramalong Valley on the NSW Central Coast. They are passionate about growing and producing food in a regenerative way\, growing beef\, lamb\, chicken and eggs! Tim also has a contracting business\, and was the 2015 RAS Rural Achiever\, as well as being a BBM Agricultural Scholar. Register now and hear how Tim & Hannah are running a successful farm business without owning a farm!\nThis is a FREE event for young farmers in a series presented by the Young Farmer Business Program and Future Farmers Network \nWHEN: Tuesday October 6 2020 \n\nTIME: 6.30pm – 7.30pm \nSPEAKERS: Tim Eyes & Hannah Greenshields\, The Food Farm \nWHERE: Online – register via https://bit.ly/StartupStoriesJune
URL:https://futurefarmers.com.au/event/tim-eyes-hannah-greenshields-startup-stories-online-october-2020/
CATEGORIES:Industry Event
ATTACH;FMTTYPE=image/jpeg:https://futurefarmers.com.au/wp-content/uploads/2020/09/Start-up-stories-social-tiles.jpg
ORGANIZER;CN="Future Farmers Network":MAILTO:executiveofficer@futurefarmers.com.au
END:VEVENT
BEGIN:VEVENT
DTSTART;TZID=Australia/Melbourne:20200825T193000
DTEND;TZID=Australia/Melbourne:20200825T203000
DTSTAMP:20260422T024945
CREATED:20200806T023426Z
LAST-MODIFIED:20200806T023426Z
UID:10000018-1598383800-1598387400@futurefarmers.com.au
SUMMARY:Startup Stories Online | August 2020
DESCRIPTION:STARTUP STORIES ONLINE! We can’t get out to your neck of the woods just yet\, but you can still hear some great yarns from young farmers having a crack in ag from the comfort of your couch! \nThis is a FREE event for young farmers in a series presented by the Young Farmer Business Program and Future Farmers Network \nWHEN: Thursday 23 July 2020 \n\nTIME: 6.30pm – 7.30pm \nSPEAKERS: Hayley Purbrick of Tahbilk Wines and Big Sky Ideas\, with Lachlan Bull\, Taurus Farming\, Deniliquin\, \nWHERE: Online – register via https://bit.ly/StartupStoriesHayleyLachlan \n 
URL:https://futurefarmers.com.au/event/startup-stories-online-august-2020/
CATEGORIES:Industry Event
ATTACH;FMTTYPE=image/jpeg:https://futurefarmers.com.au/wp-content/uploads/2020/08/20200825-YFBP-Startup-Stories-Online_Social-tile-hi-res-scaled-1.jpg
ORGANIZER;CN="Future Farmers Network":MAILTO:executiveofficer@futurefarmers.com.au
END:VEVENT
BEGIN:VEVENT
DTSTART;TZID=Australia/Melbourne:20200806T180000
DTEND;TZID=Australia/Melbourne:20200806T183000
DTSTAMP:20260422T024945
CREATED:20200726T235756Z
LAST-MODIFIED:20200726T235756Z
UID:10000017-1596736800-1596738600@futurefarmers.com.au
SUMMARY:Charles Sturt Webinar | The what\, why and how of Biosecurity
DESCRIPTION:Tune into a Future Farmers Network and Charles Sturt University webinar\, supported by RuralBiz Training\, on the Biosecurity. \nBased on producer expertise and recent research\, this will be a whirl wind tour of what the laws about biosecurity actually say\, what biosecurity recommendations and templates actually mean\, the implications of the recent changes around on-farm trespasses and what biosecurity might look like on farm
URL:https://futurefarmers.com.au/event/charles-sturt-webinar-the-what-why-and-how-of-biosecurity/
CATEGORIES:Industry Event
ATTACH;FMTTYPE=image/png:https://futurefarmers.com.au/wp-content/uploads/2020/07/Copy-of-Copy-of-Copy-of-Expand-your-horizons-6.png
ORGANIZER;CN="Future Farmers Network":MAILTO:executiveofficer@futurefarmers.com.au
END:VEVENT
BEGIN:VEVENT
DTSTART;TZID=Australia/Melbourne:20200723T183000
DTEND;TZID=Australia/Melbourne:20200723T193000
DTSTAMP:20260422T024945
CREATED:20200710T031521Z
LAST-MODIFIED:20200710T031521Z
UID:10000016-1595529000-1595532600@futurefarmers.com.au
SUMMARY:Startup Stories Online | July 2020
DESCRIPTION:STARTUP STORIES ONLINE! We can’t get out to your neck of the woods just yet\, but you can still hear some great yarns from young farmers having a crack in ag from the comfort of your couch! \nThis is a FREE event for young farmers in a series presented by the Young Farmer Business Program and Future Farmers Network \nWHEN: Thursday 23 July 2020 \n\nTIME: 6.30pm – 7.30pm \nSPEAKER: Charlie Blomfield\, Boridgeree\, Canowindra \nWHERE: Online – register via https://bit.ly/StartupStoriesCharlieBlomfield
URL:https://futurefarmers.com.au/event/startup-stories-online-july-2020/
CATEGORIES:Industry Event
ATTACH;FMTTYPE=image/jpeg:https://futurefarmers.com.au/wp-content/uploads/2020/07/YFBP-Start-Up-Stories-online-CB-web-scaled-1.jpg
ORGANIZER;CN="Future Farmers Network":MAILTO:executiveofficer@futurefarmers.com.au
END:VEVENT
BEGIN:VEVENT
DTSTART;VALUE=DATE:20200721
DTEND;VALUE=DATE:20200724
DTSTAMP:20260422T024945
CREATED:20200320T045905Z
LAST-MODIFIED:20200320T045905Z
UID:10000004-1595289600-1595548799@futurefarmers.com.au
SUMMARY:NSW Farmers Conference POSTPONED
DESCRIPTION:The NSW Farmers 2020 Annual Conference will be held 21-23 July at Luna Park Sydney.
URL:https://futurefarmers.com.au/event/nsw-farmers-conference/
LOCATION:Luna Park Sydney\, 1 Olympic Dr\, Milsons Point\, NSW\, 2061\, Australia
CATEGORIES:Conference
END:VEVENT
BEGIN:VEVENT
DTSTART;VALUE=DATE:20200708
DTEND;VALUE=DATE:20200711
DTSTAMP:20260422T024945
CREATED:20200618T051153Z
LAST-MODIFIED:20200618T051153Z
UID:10000014-1594166400-1594425599@futurefarmers.com.au
SUMMARY:ICMJ Online Expo
DESCRIPTION:The Intercollegiate Meat Judging Association (ICMJ) digital careers expo has grown in scope\, with activities now planned across three days starting with an industry advice panel on Wednesday July 8. \nThe ICMJ Virtual Careers Expo program: \n\nThe ICMJ Careers Panel discussion will feature leaders from the beef\, lamb and pork sectors\, and representing producers\, processors and R&D organisations. The panellists will discuss the range of career paths on offer\, in-demand skill sets\, and what employers are looking for in graduates. The webinar will be held at 12pm on Wednesday July 8 via Zoom – register at  https://cqu.zoom.us/meeting/register/tJUsdO-spzIqGdIrbRJoNvJQXa4yLj7TMtnJ.\nThe ICMJ Jobhunter Training Session will feature presentations from leading rural recruitment agency\, Rimfire Resources\, on top tips for jobseekers\, as well as networking advice from the chief executive of Beef Australia Ian Mill. The training session will help prepare participants to meet prospective employers. The webinar will be held at 12pm on Thursday July 9 via Zoom – register at https://cqu.zoom.us/meeting/register/tJEoceuqrTotGN0UTRFLz3AVVdS5pINoE0Jw.\nThe ICMJ Workforce Showcase will enable students to hold one-on-one video meetings with prospective employers from more than 30 different agribusinesses from across the country. The meetings will be facilitated via phone app and will take place on Friday July 10 – interview booking details will be announced next week.\n\n\nMore information www.icmj.com.au
URL:https://futurefarmers.com.au/event/icmj-online-expo/
CATEGORIES:Industry Event
END:VEVENT
BEGIN:VEVENT
DTSTART;TZID=Australia/Melbourne:20200622T180000
DTEND;TZID=Australia/Melbourne:20200622T183000
DTSTAMP:20260422T024945
CREATED:20200609T021505Z
LAST-MODIFIED:20200609T021505Z
UID:10000013-1592848800-1592850600@futurefarmers.com.au
SUMMARY:CQU Webinar | Urban-Rural Connection
DESCRIPTION:Tune into a Future Farmers Network and Central Queensland University webinar\, supported by RuralBiz Training\, on the Urban-Rural Connection. CQU’s Michael Thomson will present on what young farmers and industry professionals can do to improve community knowledge of agriculture and how to go about it.
URL:https://futurefarmers.com.au/event/cqu-webinar-urban-rural-connection/
CATEGORIES:Industry Event
END:VEVENT
BEGIN:VEVENT
DTSTART;TZID=Australia/Melbourne:20200617T183000
DTEND;TZID=Australia/Melbourne:20200617T193000
DTSTAMP:20260422T024945
CREATED:20200609T021240Z
LAST-MODIFIED:20200609T021240Z
UID:10000012-1592418600-1592422200@futurefarmers.com.au
SUMMARY:Startup Stories Online | June 2020
DESCRIPTION:STARTUP STORIES ONLINE! We can’t get out to your neck of the woods just yet\, but you can still hear some great yarns from young farmers having a crack in ag from the comfort of your couch! \nThis is a FREE event for young farmers in a series presented by the Young Farmer Business Program and Future Farmers Network \nWHEN: Wednesday 17 June 2020 \n\nTIME: 6.30pm – 7.30pm \nSPEAKER: Renae & Scott Connell\, Valleyrose Dairy\, Megan\, NSW | 2019 NSW Young Farmer of the Year. \nWHERE: Online – register via https://bit.ly/StartupStoriesJune
URL:https://futurefarmers.com.au/event/startup-stories-online-june-2020/
CATEGORIES:Industry Event
ORGANIZER;CN="Future Farmers Network":MAILTO:executiveofficer@futurefarmers.com.au
END:VEVENT
BEGIN:VEVENT
DTSTART;VALUE=DATE:20200320
DTEND;VALUE=DATE:20200321
DTSTAMP:20260422T024945
CREATED:20200320T043808Z
LAST-MODIFIED:20200320T043808Z
UID:10000002-1584662400-1584748799@futurefarmers.com.au
SUMMARY:Cotton Conference
DESCRIPTION:2020 Australian Cotton Conference – “Here for Good” \nThe Australian Cotton Conference is an experience not-to-be-missed. Held at the Gold Coast from 4-6 August 2020\, this event will bring together new and experienced farmers\, agronomists and researchers\, brands and marketers\, students\, supply chain partners\, industry groups and cotton groupies. Together we’ll look at the challenges and opportunities facing cotton\, share and learn from one another and listen to some of the world’s best cotton experts – and have a whole lotta fun along the way.
URL:https://futurefarmers.com.au/event/cotton-conference/
LOCATION:Gold Coast Convention & Exhibition Centre\, 2684-2690 Gold Coast Hwy\, Broadbeach\, QLD\, 4218\, Australia
CATEGORIES:Conference
END:VEVENT
END:VCALENDAR