BEGIN:VCALENDAR
VERSION:2.0
PRODID:-//Future Farmers Network - ECPv6.15.20//NONSGML v1.0//EN
CALSCALE:GREGORIAN
METHOD:PUBLISH
X-ORIGINAL-URL:https://futurefarmers.com.au
X-WR-CALDESC:Events for Future Farmers Network
REFRESH-INTERVAL;VALUE=DURATION:PT1H
X-Robots-Tag:noindex
X-PUBLISHED-TTL:PT1H
BEGIN:VTIMEZONE
TZID:Australia/Melbourne
BEGIN:STANDARD
TZOFFSETFROM:+1100
TZOFFSETTO:+1000
TZNAME:AEST
DTSTART:20200404T160000
END:STANDARD
BEGIN:DAYLIGHT
TZOFFSETFROM:+1000
TZOFFSETTO:+1100
TZNAME:AEDT
DTSTART:20201003T160000
END:DAYLIGHT
BEGIN:STANDARD
TZOFFSETFROM:+1100
TZOFFSETTO:+1000
TZNAME:AEST
DTSTART:20210403T160000
END:STANDARD
BEGIN:DAYLIGHT
TZOFFSETFROM:+1000
TZOFFSETTO:+1100
TZNAME:AEDT
DTSTART:20211002T160000
END:DAYLIGHT
BEGIN:STANDARD
TZOFFSETFROM:+1100
TZOFFSETTO:+1000
TZNAME:AEST
DTSTART:20220402T160000
END:STANDARD
BEGIN:DAYLIGHT
TZOFFSETFROM:+1000
TZOFFSETTO:+1100
TZNAME:AEDT
DTSTART:20221001T160000
END:DAYLIGHT
END:VTIMEZONE
BEGIN:VEVENT
DTSTART;VALUE=DATE:20210630
DTEND;VALUE=DATE:20210703
DTSTAMP:20260420T195007
CREATED:20200320T050912Z
LAST-MODIFIED:20200320T050912Z
UID:10000007-1625011200-1625270399@futurefarmers.com.au
SUMMARY:Lambex
DESCRIPTION:LambEx celebrates all that is great about Australia’s sheep and lamb industries\, featuring a compelling program with outstanding speakers and an opportunity to network with all sectors of the lamb value chain.
URL:https://futurefarmers.com.au/event/lambex/
LOCATION:Melbourne Showgrounds\, Epsom Road\, Ascot Vale\, VIC\, 3032\, Australia
CATEGORIES:Industry Event
END:VEVENT
END:VCALENDAR